#=====================================================================
# CIF generated by M. Suchomel at APS/ANL
# using NIST SRM information
#=======================================================================

data_LaB6_660a

_pd_phase_name	 "NIST SRM LaB6 660a"
_cell_length_a                         4.15692
_cell_length_b                         4.15692
_cell_length_c                         4.15692
_cell_angle_alpha                      90.0
_cell_angle_beta                       90.0
_cell_angle_gamma                      90.0
_cell_volume                           71.832
_symmetry_cell_setting                 cubic
_symmetry_space_group_name_H-M         "P m 3 m"
_chemical_formula_sum                  "B6 La"
_chemical_formula_weight               203.77
_cell_formula_units_Z                  1

loop_
      _atom_site_type_symbol
      _atom_site_label
      _atom_site_fract_x
      _atom_site_fract_y
      _atom_site_fract_z
      _atom_site_occupancy
      _atom_site_thermal_displace_type
      _atom_site_U_iso_or_equiv
      _atom_site_symmetry_multiplicity
	La   LA1   0.0      0.0   0.0   1.0   Uiso   0.0045   1
	B    B     0.198    0.5   0.5   1.0   Uiso   0.0035   6

loop_ _atom_type_symbol
      _atom_type_number_in_cell
	La  1.0        
	B   6.0        

#--eof--eof--eof--eof--eof--eof--eof--eof--eof--eof--eof--eof--eof--eof--eof--#





