data_CeO2
_chemical_name_systematic 'Cerium(IV) dioxide'
_chemical_formula_structural 'Ce O2'
_cell_length_a 5.41165
_cell_length_b 5.41165
_cell_length_c 5.41165
_cell_angle_alpha 90.
_cell_angle_beta 90.
_cell_angle_gamma 90.
_cell_formula_units_Z 4
_symmetry_space_group_name_H-M 'F m -3 m'
_symmetry_Int_Tables_number 225
loop_
_atom_type_symbol
_atom_type_oxidation_number
Ce4+ 4
O2- -2
loop_
_atom_site_label
_atom_site_type_symbol
_atom_site_symmetry_multiplicity
_atom_site_Wyckoff_symbol
_atom_site_fract_x
_atom_site_fract_y
_atom_site_fract_z
_atom_site_occupancy 
Ce1 Ce4+ 4 a 0    0    0    1.0
O1   O2- 8 c 0.25 0.25 0.25 1.0



